BEGIN:VCALENDAR
PRODID:-//AT Content Types//AT Event//EN
VERSION:2.0
METHOD:PUBLISH
BEGIN:VEVENT
DTSTAMP:20260424T071753Z
CREATED:20250121T113227Z
LAST-MODIFIED:20250303T084010Z
SUMMARY:Estinzioni e Rewilding - Darwin Day 2025
DTSTART:20250211T230000Z
DTEND:20250303T230000Z
DESCRIPTION:Darwin Day 2025
URL:https://sma.unibo.it/it/agenda/DD2025
CLASS:PUBLIC
END:VEVENT
END:VCALENDAR
