BEGIN:VCALENDAR
PRODID:-//AT Content Types//AT Event//EN
VERSION:2.0
METHOD:PUBLISH
BEGIN:VEVENT
DTSTAMP:20260422T215452Z
CREATED:20250320T090924Z
LAST-MODIFIED:20250320T092035Z
SUMMARY:ALMA MATER FOR KIDS - Laboratorio didattico
DTSTART:20250329T150000Z
DTEND:20250329T163000Z
LOCATION:Museo Europeo degli Studenti - MEUS\, via Zamboni 33\, Bologna
URL:https://sma.unibo.it/it/agenda/alma-mater-for-kids
CLASS:PUBLIC
END:VEVENT
END:VCALENDAR
