BEGIN:VCALENDAR
PRODID:-//AT Content Types//AT Event//EN
VERSION:2.0
METHOD:PUBLISH
BEGIN:VEVENT
DTSTAMP:20260425T205957Z
CREATED:20210512T122244Z
LAST-MODIFIED:20230529T072954Z
SUMMARY:Animali fantastici e come salvarli - International Museum Day 2021
DTSTART:20210517T220000Z
DTEND:20210613T220000Z
DESCRIPTION:In occasione dell'International Museum Day 2021
URL:https://sma.unibo.it/it/agenda/animali-fantastici-e-come-salvarli-video
CLASS:PUBLIC
END:VEVENT
END:VCALENDAR
