BEGIN:VCALENDAR
PRODID:-//AT Content Types//AT Event//EN
VERSION:2.0
METHOD:PUBLISH
BEGIN:VEVENT
DTSTAMP:20260421T032611Z
CREATED:20240220T205928Z
LAST-MODIFIED:20240311T095335Z
SUMMARY:Caleidoscopio Giappone 2024
DTSTART:20240301T230000Z
DTEND:20240331T220000Z
URL:https://sma.unibo.it/it/agenda/caleidoscopio-giappone-2024
CLASS:PUBLIC
END:VEVENT
END:VCALENDAR
