BEGIN:VCALENDAR
PRODID:-//AT Content Types//AT Event//EN
VERSION:2.0
METHOD:PUBLISH
BEGIN:VEVENT
DTSTAMP:20260422T233125Z
CREATED:20250213T144530Z
LAST-MODIFIED:20250303T084151Z
SUMMARY:Caleidoscopio Giappone 2025
DTSTART:20250221T230000Z
DTEND:20250307T230000Z
LOCATION:Museo di Palazzo Poggi\, via Zamboni 33\, Bologna
URL:https://sma.unibo.it/it/agenda/caleidoscopio-giappone-2025
CLASS:PUBLIC
END:VEVENT
END:VCALENDAR
