BEGIN:VCALENDAR
PRODID:-//AT Content Types//AT Event//EN
VERSION:2.0
METHOD:PUBLISH
BEGIN:VEVENT
DTSTAMP:20260419T182117Z
CREATED:20221024T092108Z
LAST-MODIFIED:20221124T085751Z
SUMMARY:CICLO DI CONFERENZE UNIONE BOLOGNESE NATURALISTI
DTSTART:20221018T220000Z
DTEND:20221129T230000Z
LOCATION:Aula Ghigi
URL:https://sma.unibo.it/it/agenda/ciclo-di-conferenze-unione-bolognese-naturalisti-1
CLASS:PUBLIC
END:VEVENT
END:VCALENDAR
