BEGIN:VCALENDAR
PRODID:-//AT Content Types//AT Event//EN
VERSION:2.0
METHOD:PUBLISH
BEGIN:VEVENT
DTSTAMP:20260422T201040Z
CREATED:20220204T085648Z
LAST-MODIFIED:20220516T115958Z
SUMMARY:CREATURE CERAMICHE - Laboratorio didattico
DTSTART:20220507T220000Z
DTEND:20220521T220000Z
DESCRIPTION:I disegni di Ulisse Aldrovandi diventano argilla
LOCATION:Museo di Palazzo Poggi\, via Zamboni 33\, Bologna
URL:https://sma.unibo.it/it/agenda/creature-ceramiche-laboratorio-didattico
CLASS:PUBLIC
END:VEVENT
END:VCALENDAR
