BEGIN:VCALENDAR
PRODID:-//AT Content Types//AT Event//EN
VERSION:2.0
METHOD:PUBLISH
BEGIN:VEVENT
DTSTAMP:20260422T083359Z
CREATED:20240508T133430Z
LAST-MODIFIED:20240508T140319Z
SUMMARY:Diverdeinverde 2024
DTSTART:20240524T220000Z
DTEND:20240525T220000Z
LOCATION:Orto Botanico ed Erbario\, via Irnerio 42\, Bologna
URL:https://sma.unibo.it/it/agenda/diverdeinverde-2024
CLASS:PUBLIC
END:VEVENT
END:VCALENDAR
