BEGIN:VCALENDAR
PRODID:-//AT Content Types//AT Event//EN
VERSION:2.0
METHOD:PUBLISH
BEGIN:VEVENT
DTSTAMP:20260420T024451Z
CREATED:20180509T101456Z
LAST-MODIFIED:20180615T082549Z
SUMMARY:ESTATE 2018 AL MUSEO - LABORATORI PER I CENTRI ESTIVI
DTSTART:20180531T220000Z
DTEND:20180730T220000Z
DESCRIPTION:LABORATORI PER I CENTRI ESTIVI
URL:https://sma.unibo.it/it/agenda/estate-2018-al-museo-laboratori-per-i-centri-estivi
CLASS:PUBLIC
END:VEVENT
END:VCALENDAR
