BEGIN:VCALENDAR
PRODID:-//AT Content Types//AT Event//EN
VERSION:2.0
METHOD:PUBLISH
BEGIN:VEVENT
DTSTAMP:20260421T014331Z
CREATED:20210511T132727Z
LAST-MODIFIED:20210602T084458Z
SUMMARY:Gli Arazzi di Bruxelles: un capolavoro riscoperto - Webinar
DTSTART:20210528T150000Z
DTEND:20210528T163000Z
DESCRIPTION:Un capolavoro riscoperto
LOCATION:Diretta streaming su Facebook e YouTube
URL:https://sma.unibo.it/it/agenda/gli-arazzi-di-bruxelles-un-capolavoro-riscoperto-webinar
CLASS:PUBLIC
END:VEVENT
END:VCALENDAR
