BEGIN:VCALENDAR
PRODID:-//AT Content Types//AT Event//EN
VERSION:2.0
METHOD:PUBLISH
BEGIN:VEVENT
DTSTAMP:20260425T041606Z
CREATED:20251002T160248Z
LAST-MODIFIED:20251025T090119Z
SUMMARY:Il Primo Profumo - Mostra
DTSTART:20251011T220000Z
DTEND:20251108T230000Z
DESCRIPTION:Tappūtī e la Storia degli Aromi
LOCATION:Museo di Palazzo Poggi\, via Zamboni 33\, Bologna
URL:https://sma.unibo.it/it/agenda/il-primo-profumo-mostra
CLASS:PUBLIC
END:VEVENT
END:VCALENDAR
