BEGIN:VCALENDAR
PRODID:-//AT Content Types//AT Event//EN
VERSION:2.0
METHOD:PUBLISH
BEGIN:VEVENT
DTSTAMP:20260423T000254Z
CREATED:20171212T074803Z
LAST-MODIFIED:20180108T103054Z
SUMMARY:IL TERREMOTO DI SANTA SOFIA E DELL’APPENNINO FORLIVESE: 1918-2018 - CONFERENZA
DTSTART:20180113T150000Z
DTEND:20180113T170000Z
DESCRIPTION:PER IL CICLO "IL SABATO DEL CAPELLINI"
LOCATION:Collezione di Geologia "Museo Giovanni Capellini"\, via Zamboni 63\, Bologna
URL:https://sma.unibo.it/it/agenda/il-terremoto-di-santa-sofia-e-dell2019appennino-forlivese-1918-2018-conferenza
CLASS:PUBLIC
END:VEVENT
END:VCALENDAR
