BEGIN:VCALENDAR
PRODID:-//AT Content Types//AT Event//EN
VERSION:2.0
METHOD:PUBLISH
BEGIN:VEVENT
DTSTAMP:20260420T130055Z
CREATED:20250303T095812Z
LAST-MODIFIED:20250325T111154Z
SUMMARY:IUGS - Initiative on Forensic Geology Conference
DTSTART:20250520T220000Z
DTEND:20250522T220000Z
LOCATION:Spazio Europa\, via Quattro Novembre 149\, Roma
URL:https://sma.unibo.it/it/agenda/iugs-initiative-on-forensic-geology-conference
CLASS:PUBLIC
END:VEVENT
END:VCALENDAR
