BEGIN:VCALENDAR
PRODID:-//AT Content Types//AT Event//EN
VERSION:2.0
METHOD:PUBLISH
BEGIN:VEVENT
DTSTAMP:20260422T121147Z
CREATED:20241025T091721Z
LAST-MODIFIED:20241025T091812Z
SUMMARY:La storia naturale nel periodo Edo (1603- 1868) - Gli scambi con l'Occidente - Conferenza
DTSTART:20241030T160000Z
DTEND:20241030T170000Z
LOCATION:Sala Magna Charta - Museo di Palazzo Poggi\, via Zamboni 33\, Bologna
URL:https://sma.unibo.it/it/agenda/la-storia-naturale-nel-periodo-edo-1603-1868-gli-scambi-con-loccidente-conferenza
CLASS:PUBLIC
END:VEVENT
END:VCALENDAR
