BEGIN:VCALENDAR
PRODID:-//AT Content Types//AT Event//EN
VERSION:2.0
METHOD:PUBLISH
BEGIN:VEVENT
DTSTAMP:20260425T170146Z
CREATED:20241218T135828Z
LAST-MODIFIED:20250127T090101Z
SUMMARY:LABORATORI DIDATTICI PER BAMBINI - GENNAIO 2025
DTSTART:20241231T230000Z
DTEND:20250130T230000Z
DESCRIPTION:GENNAIO 2025
URL:https://sma.unibo.it/it/agenda/laboratori-didattici-gennaio-2025
CLASS:PUBLIC
END:VEVENT
END:VCALENDAR
