BEGIN:VCALENDAR
PRODID:-//AT Content Types//AT Event//EN
VERSION:2.0
METHOD:PUBLISH
BEGIN:VEVENT
DTSTAMP:20260420T130057Z
CREATED:20251119T141702Z
LAST-MODIFIED:20251229T131517Z
SUMMARY:LABORATORI DIDATTICI PER BAMBINI - DICEMBRE 2025
DTSTART:20251130T230000Z
DTEND:20251230T230000Z
DESCRIPTION:DICEMBRE 2025
URL:https://sma.unibo.it/it/agenda/laboratori-didattici-per-bambini-dicembre-2025
CLASS:PUBLIC
END:VEVENT
END:VCALENDAR
