BEGIN:VCALENDAR
PRODID:-//AT Content Types//AT Event//EN
VERSION:2.0
METHOD:PUBLISH
BEGIN:VEVENT
DTSTAMP:20260425T093627Z
CREATED:20260422T125629Z
LAST-MODIFIED:20260423T085102Z
SUMMARY:Laboratori didattici per bambini - maggio 2026
DTSTART:20260430T220000Z
DTEND:20260530T220000Z
DESCRIPTION:Maggio 2026
URL:https://sma.unibo.it/it/agenda/laboratori-didattici-per-bambini-maggio-2026
CLASS:PUBLIC
END:VEVENT
END:VCALENDAR
