BEGIN:VCALENDAR
PRODID:-//AT Content Types//AT Event//EN
VERSION:2.0
METHOD:PUBLISH
BEGIN:VEVENT
DTSTAMP:20260419T203209Z
CREATED:20211012T072312Z
LAST-MODIFIED:20211015T121646Z
SUMMARY:Le madri della Costituzione - Presentazione del libro
DTSTART:20211020T153000Z
DTEND:20211020T170000Z
DESCRIPTION:Presentazione del libro
LOCATION:Aula Magna della Specola - Palazzo Poggi\, via Zamboni 33\, Bologna
URL:https://sma.unibo.it/it/agenda/le-madri-della-costituzione-presentazione-del-libro
CLASS:PUBLIC
END:VEVENT
END:VCALENDAR
