BEGIN:VCALENDAR
PRODID:-//AT Content Types//AT Event//EN
VERSION:2.0
METHOD:PUBLISH
BEGIN:VEVENT
DTSTAMP:20260425T121633Z
CREATED:20240828T134236Z
LAST-MODIFIED:20240828T144352Z
SUMMARY:Life4Pollinators Final Conference
DTSTART:20240903T220000Z
DTEND:20240904T220000Z
URL:https://sma.unibo.it/it/agenda/life4pollinators-final-conference
CLASS:PUBLIC
END:VEVENT
END:VCALENDAR
