BEGIN:VCALENDAR
PRODID:-//AT Content Types//AT Event//EN
VERSION:2.0
METHOD:PUBLISH
BEGIN:VEVENT
DTSTAMP:20260420T214857Z
CREATED:20241027T142135Z
LAST-MODIFIED:20250103T123822Z
SUMMARY:“Di intelligenza eletta e di animo buono”: Matteotti studente dell'Università di Bologna - Mostra
DTSTART:20241106T230000Z
DTEND:20250105T230000Z
DESCRIPTION:Matteotti studente dell'Università di Bologna
LOCATION:Museo Europeo degli Studenti - MEUS\, via Zamboni 33\, Bologna
URL:https://sma.unibo.it/it/agenda/mostra-Matteotti
CLASS:PUBLIC
END:VEVENT
END:VCALENDAR
