BEGIN:VCALENDAR
PRODID:-//AT Content Types//AT Event//EN
VERSION:2.0
METHOD:PUBLISH
BEGIN:VEVENT
DTSTAMP:20260422T125632Z
CREATED:20200610T183627Z
LAST-MODIFIED:20200611T161829Z
SUMMARY:Paleotac. La tecnologia medica riscrive la paleontologia - Diretta streaming
DTSTART:20200612T150000Z
DTEND:20200612T160000Z
DESCRIPTION:La tecnologia medica riscrive la paleontologia
LOCATION:Diretta streaming sulla pagina Facebook di SMA
URL:https://sma.unibo.it/it/agenda/paleotac
CLASS:PUBLIC
END:VEVENT
END:VCALENDAR
