BEGIN:VCALENDAR
PRODID:-//AT Content Types//AT Event//EN
VERSION:2.0
METHOD:PUBLISH
BEGIN:VEVENT
DTSTAMP:20260420T043806Z
CREATED:20251024T150015Z
LAST-MODIFIED:20251029T150000Z
SUMMARY:Prompting the real - Mostra
DTSTART:20251114T230000Z
DTEND:20251115T230000Z
DESCRIPTION:Artists-AI Co-creation
LOCATION:Museo di Palazzo Poggi\, via Zamboni 33\, Bologna
URL:https://sma.unibo.it/it/agenda/prompting-the-real-mostra
CLASS:PUBLIC
END:VEVENT
END:VCALENDAR
