BEGIN:VCALENDAR
PRODID:-//AT Content Types//AT Event//EN
VERSION:2.0
METHOD:PUBLISH
BEGIN:VEVENT
DTSTAMP:20260422T061851Z
CREATED:20220511T143717Z
LAST-MODIFIED:20220527T140731Z
SUMMARY:Sbagliando si impara. Il lavoro dell'astronomo - Visita guidata
DTSTART:20220513T220000Z
DTEND:20220527T220000Z
DESCRIPTION:Il lavoro dell'astronomo
LOCATION:Museo della Specola\, via Zamboni 33\, Bologna
URL:https://sma.unibo.it/it/agenda/sbagliando-si-impara-il-lavoro-dellastronomo-visita-guidata
CLASS:PUBLIC
END:VEVENT
END:VCALENDAR
