BEGIN:VCALENDAR
PRODID:-//AT Content Types//AT Event//EN
VERSION:2.0
METHOD:PUBLISH
BEGIN:VEVENT
DTSTAMP:20260419T162553Z
CREATED:20221026T082145Z
LAST-MODIFIED:20221205T084109Z
SUMMARY:SMA PER "BOLOGNA CITTÀ DELLE BAMBINE E DEI BAMBINI" ED. 2022
DTSTART:20221113T230000Z
DTEND:20221210T230000Z
URL:https://sma.unibo.it/it/agenda/sma-per-bologna-citta-delle-bambine-e-dei-bambini-ed-2022
CLASS:PUBLIC
END:VEVENT
END:VCALENDAR
