BEGIN:VCALENDAR
PRODID:-//AT Content Types//AT Event//EN
VERSION:2.0
METHOD:PUBLISH
BEGIN:VEVENT
DTSTAMP:20260422T184445Z
CREATED:20250228T153309Z
LAST-MODIFIED:20250414T090956Z
SUMMARY:SMA per "BOOM! Crescere nei libri" - Attività didattiche
DTSTART:20250328T230000Z
DTEND:20250425T220000Z
URL:https://sma.unibo.it/it/agenda/sma-per-boom-crescere-nei-libri-attivita-didattiche
CLASS:PUBLIC
END:VEVENT
END:VCALENDAR
