BEGIN:VCALENDAR
PRODID:-//AT Content Types//AT Event//EN
VERSION:2.0
METHOD:PUBLISH
BEGIN:VEVENT
DTSTAMP:20260421T160537Z
CREATED:20230926T141440Z
LAST-MODIFIED:20231011T141923Z
SUMMARY:SMA PER LA FESTA INTERNAZIONALE DELLA STORIA 2023
DTSTART:20231025T220000Z
DTEND:20231027T220000Z
URL:https://sma.unibo.it/it/agenda/sma-per-la-festa-internazionale-della-storia-2023
CLASS:PUBLIC
END:VEVENT
END:VCALENDAR
