BEGIN:VCALENDAR
PRODID:-//AT Content Types//AT Event//EN
VERSION:2.0
METHOD:PUBLISH
BEGIN:VEVENT
DTSTAMP:20260421T120702Z
CREATED:20230912T072810Z
LAST-MODIFIED:20250428T084850Z
SUMMARY:Szymborska\, il mondo dei collage
DTSTART:20230926T220000Z
DTEND:20231104T230000Z
LOCATION:Museo di Palazzo Poggi\, via Zamboni 33\, Bologna
URL:https://sma.unibo.it/it/agenda/szymborska-il-mondo-dei-collage
CLASS:PUBLIC
END:VEVENT
END:VCALENDAR
