BEGIN:VCALENDAR
PRODID:-//AT Content Types//AT Event//EN
VERSION:2.0
METHOD:PUBLISH
BEGIN:VEVENT
DTSTAMP:20260421T103458Z
CREATED:20231031T131850Z
LAST-MODIFIED:20231218T080806Z
SUMMARY:WHEN I GROW UP - MOSTRA FOTOGRAFICA
DTSTART:20231111T230000Z
DTEND:20240106T230000Z
DESCRIPTION:Non siamo classificabili
LOCATION:Collezione di Zoologia\, via Selmi 3\, Bologna
URL:https://sma.unibo.it/it/agenda/when-i-grow-up
CLASS:PUBLIC
END:VEVENT
END:VCALENDAR
